BEGIN:VCALENDAR
VERSION:2.0
PRODID:-//wp-events-plugin.com//5.99912//EN
TZID:Europe/Berlin
X-WR-TIMEZONE:Europe/Berlin
BEGIN:VEVENT
UID:0-411@badfriedrichshall.albverein.eu
DTSTART;TZID=Europe/Berlin:20260520T124500
DTEND;TZID=Europe/Berlin:20260520T180000
DTSTAMP:20260413T155000Z
URL:https://badfriedrichshall.albverein.eu/events/mittwochswanderung-im-fi
 schbachtal/
SUMMARY:Mittwochswanderung im Fischbachtal
DESCRIPTION:Herzliche Einladung zu unserer Wanderung „Fischbachtal“ ! G
 äste sind herzlich willkommen und dürfen gerne mitwandern\n\nDiese Wande
 rung beginnt am Parkplatz Turnhalle / Sportplatz in Ohrnberg am Kocher !\n
 \nDatum:          Mittwoch 20.05.2026\n\nTreffpunkt:   12.45 Uh
 r Parkplatz Bahnhof Kochendorf Bahnhofstr.36\n\nAbfahrt:        13.
 00 Uhr in Fahrgemeinschaften zum Sportplatz nach Ohrnberg\n\nAbmarsch:  
   13.45 Uhr ab Turnhalle Seehäldenstr.12 in Ohrnberg\n\nGehzeit:    
      3 Std. / 10 km „eben nuff“ ( Aufstieg / Abstieg 132 m)\n\nSch
 luss-Einkehr  in Kochersteinsfeld  ist reserviert!\n\nVeranstalter: Schw
 äbischer Albverein BAD FRIEDRICHSHALL Ortsgruppe Kochendorf\n\nInfo:   
 Günter Wöhrle Tel. 07136 / 8304900  oder Tel. 07139 / 8845\n\n      
LOCATION:Bahnhof Kochendorf\, Bahnhofstr.\, Bad Friedrichshall\, Baden-Wür
 ttemberg\, 74177\, Heilbronn\, Deutschland
GEO:49.218986;9.211141
X-APPLE-STRUCTURED-LOCATION;VALUE=URI;X-ADDRESS=Bahnhofstr.\, Bad Friedrich
 shall\, Baden-Württemberg\, 74177\, Heilbronn\, Deutschland;X-APPLE-RADIU
 S=100;X-TITLE=Bahnhof Kochendorf:geo:49.218986,9.211141
END:VEVENT
BEGIN:VTIMEZONE
TZID:Europe/Berlin
X-LIC-LOCATION:Europe/Berlin
BEGIN:DAYLIGHT
DTSTART:20260329T030000
TZOFFSETFROM:+0100
TZOFFSETTO:+0200
TZNAME:CEST
END:DAYLIGHT
END:VTIMEZONE
END:VCALENDAR